BEGIN:VCALENDAR
PRODID:-//eluceo/ical//2.0/EN
VERSION:2.0
CALSCALE:GREGORIAN
BEGIN:VEVENT
UID:event-769
DTSTAMP:20260421T122452Z
SUMMARY:Workshop: DRUK?!
DESCRIPTION:DRUK?! 🤔🏃 Vraag je aan een vriend hoe het gaat\, dan is h
 et antwoord meestal: “Druk.” In het studentenleven lijkt druk zijn som
 s een statussymbool\, maar wat betekent het eigenlijk voor je? Op 18 mei o
 rganiseert In Duplo de workshop DRUK?! gegeven door Stichting Door Het Gel
 uid. Deze stichting zet zich in voor het versterken van de mentale gezondh
 eid o.a. onder studenten. Tijdens deze workshop zullen we stilstaan bij he
 t drukke leven van studenten. We zullen bespreken waar de constante haast 
 en hoge verwachtingen vandaan komen en hoe het gevoel van ‘lekker bezig 
 zijn’ om kan slaan in stressgevoelens. Daarnaast zal worden ingegaan op 
 hoe je het gesprek hierover opent in je eigen omgeving. Je hoeft niet alti
 jd meer\, beter of sneller. Soms is het ook gewoon genoeg. ✋ Lijkt het j
 e interessant om aan deze workshop deel te nemen\, meld je dan snel aan vi
 a de website! 🗓 Wanneer: 18 mei  ⏰ Tijd: 19:00 uur  📍 Locatie: L
 angeveld 1.02
DTSTART:20260518T170000Z
DTEND:20260518T190000Z
END:VEVENT
BEGIN:VTIMEZONE
TZID:UTC
BEGIN:STANDARD
DTSTART:20260518T170000
TZNAME:UTC
TZOFFSETTO:+0000
TZOFFSETFROM:+0000
END:STANDARD
END:VTIMEZONE
END:VCALENDAR
